BEGIN:VCALENDAR
VERSION:2.0
PRODID:-//The Lodge at Indian Lake - ECPv6.15.20//NONSGML v1.0//EN
CALSCALE:GREGORIAN
METHOD:PUBLISH
X-WR-CALNAME:The Lodge at Indian Lake
X-ORIGINAL-URL:https://thelodgeatindianlake.com
X-WR-CALDESC:Events for The Lodge at Indian Lake
REFRESH-INTERVAL;VALUE=DURATION:PT1H
X-Robots-Tag:noindex
X-PUBLISHED-TTL:PT1H
BEGIN:VTIMEZONE
TZID:America/New_York
BEGIN:DAYLIGHT
TZOFFSETFROM:-0500
TZOFFSETTO:-0400
TZNAME:EDT
DTSTART:20250309T070000
END:DAYLIGHT
BEGIN:STANDARD
TZOFFSETFROM:-0400
TZOFFSETTO:-0500
TZNAME:EST
DTSTART:20251102T060000
END:STANDARD
BEGIN:DAYLIGHT
TZOFFSETFROM:-0500
TZOFFSETTO:-0400
TZNAME:EDT
DTSTART:20260308T070000
END:DAYLIGHT
BEGIN:STANDARD
TZOFFSETFROM:-0400
TZOFFSETTO:-0500
TZNAME:EST
DTSTART:20261101T060000
END:STANDARD
BEGIN:DAYLIGHT
TZOFFSETFROM:-0500
TZOFFSETTO:-0400
TZNAME:EDT
DTSTART:20270314T070000
END:DAYLIGHT
BEGIN:STANDARD
TZOFFSETFROM:-0400
TZOFFSETTO:-0500
TZNAME:EST
DTSTART:20271107T060000
END:STANDARD
END:VTIMEZONE
BEGIN:VEVENT
DTSTART;TZID=America/New_York:20260304T160000
DTEND;TZID=America/New_York:20260304T180000
DTSTAMP:20260424T052310
CREATED:20240202T231440Z
LAST-MODIFIED:20260301T181810Z
UID:10011999-1772640000-1772647200@thelodgeatindianlake.com
SUMMARY:Happy Hour at the Lodge
DESCRIPTION:Enjoy our $5 Craft Beers\, $4 House Wines and $5 OFF all appetizers from 4pm to 6pm Wednesday\, Thursday and Friday every week.
URL:https://thelodgeatindianlake.com/events/lodge-happy-hour/2026-03-04/
LOCATION:The Lodge at Indian Lake\, 700 S Shore Trail\, Central City\, PA\, 15926\, United States
CATEGORIES:Happy Hour,Specials
ATTACH;FMTTYPE=image/jpeg:https://thelodgeatindianlake.com/wp-content/uploads/2024/02/IMG_8787.jpeg
END:VEVENT
BEGIN:VEVENT
DTSTART;TZID=America/New_York:20260305T160000
DTEND;TZID=America/New_York:20260305T180000
DTSTAMP:20260424T052310
CREATED:20240202T231440Z
LAST-MODIFIED:20260301T181810Z
UID:10012000-1772726400-1772733600@thelodgeatindianlake.com
SUMMARY:Happy Hour at the Lodge
DESCRIPTION:Enjoy our $5 Craft Beers\, $4 House Wines and $5 OFF all appetizers from 4pm to 6pm Wednesday\, Thursday and Friday every week.
URL:https://thelodgeatindianlake.com/events/lodge-happy-hour/2026-03-05/
LOCATION:The Lodge at Indian Lake\, 700 S Shore Trail\, Central City\, PA\, 15926\, United States
CATEGORIES:Happy Hour,Specials
ATTACH;FMTTYPE=image/jpeg:https://thelodgeatindianlake.com/wp-content/uploads/2024/02/IMG_8787.jpeg
END:VEVENT
BEGIN:VEVENT
DTSTART;TZID=America/New_York:20260306T160000
DTEND;TZID=America/New_York:20260306T180000
DTSTAMP:20260424T052310
CREATED:20240202T231440Z
LAST-MODIFIED:20260301T181810Z
UID:10012001-1772812800-1772820000@thelodgeatindianlake.com
SUMMARY:Happy Hour at the Lodge
DESCRIPTION:Enjoy our $5 Craft Beers\, $4 House Wines and $5 OFF all appetizers from 4pm to 6pm Wednesday\, Thursday and Friday every week.
URL:https://thelodgeatindianlake.com/events/lodge-happy-hour/2026-03-06/
LOCATION:The Lodge at Indian Lake\, 700 S Shore Trail\, Central City\, PA\, 15926\, United States
CATEGORIES:Happy Hour,Specials
ATTACH;FMTTYPE=image/jpeg:https://thelodgeatindianlake.com/wp-content/uploads/2024/02/IMG_8787.jpeg
END:VEVENT
BEGIN:VEVENT
DTSTART;TZID=America/New_York:20260311T160000
DTEND;TZID=America/New_York:20260311T180000
DTSTAMP:20260424T052310
CREATED:20240202T231440Z
LAST-MODIFIED:20260301T181810Z
UID:10012002-1773244800-1773252000@thelodgeatindianlake.com
SUMMARY:Happy Hour at the Lodge
DESCRIPTION:Enjoy our $5 Craft Beers\, $4 House Wines and $5 OFF all appetizers from 4pm to 6pm Wednesday\, Thursday and Friday every week.
URL:https://thelodgeatindianlake.com/events/lodge-happy-hour/2026-03-11/
LOCATION:The Lodge at Indian Lake\, 700 S Shore Trail\, Central City\, PA\, 15926\, United States
CATEGORIES:Happy Hour,Specials
ATTACH;FMTTYPE=image/jpeg:https://thelodgeatindianlake.com/wp-content/uploads/2024/02/IMG_8787.jpeg
END:VEVENT
BEGIN:VEVENT
DTSTART;TZID=America/New_York:20260312T160000
DTEND;TZID=America/New_York:20260312T180000
DTSTAMP:20260424T052310
CREATED:20240202T231440Z
LAST-MODIFIED:20260301T181810Z
UID:10012003-1773331200-1773338400@thelodgeatindianlake.com
SUMMARY:Happy Hour at the Lodge
DESCRIPTION:Enjoy our $5 Craft Beers\, $4 House Wines and $5 OFF all appetizers from 4pm to 6pm Wednesday\, Thursday and Friday every week.
URL:https://thelodgeatindianlake.com/events/lodge-happy-hour/2026-03-12/
LOCATION:The Lodge at Indian Lake\, 700 S Shore Trail\, Central City\, PA\, 15926\, United States
CATEGORIES:Happy Hour,Specials
ATTACH;FMTTYPE=image/jpeg:https://thelodgeatindianlake.com/wp-content/uploads/2024/02/IMG_8787.jpeg
END:VEVENT
BEGIN:VEVENT
DTSTART;TZID=America/New_York:20260313T160000
DTEND;TZID=America/New_York:20260313T180000
DTSTAMP:20260424T052310
CREATED:20240202T231440Z
LAST-MODIFIED:20260301T181810Z
UID:10012004-1773417600-1773424800@thelodgeatindianlake.com
SUMMARY:Happy Hour at the Lodge
DESCRIPTION:Enjoy our $5 Craft Beers\, $4 House Wines and $5 OFF all appetizers from 4pm to 6pm Wednesday\, Thursday and Friday every week.
URL:https://thelodgeatindianlake.com/events/lodge-happy-hour/2026-03-13/
LOCATION:The Lodge at Indian Lake\, 700 S Shore Trail\, Central City\, PA\, 15926\, United States
CATEGORIES:Happy Hour,Specials
ATTACH;FMTTYPE=image/jpeg:https://thelodgeatindianlake.com/wp-content/uploads/2024/02/IMG_8787.jpeg
END:VEVENT
BEGIN:VEVENT
DTSTART;TZID=America/New_York:20260318T160000
DTEND;TZID=America/New_York:20260318T180000
DTSTAMP:20260424T052310
CREATED:20240202T231440Z
LAST-MODIFIED:20260301T181810Z
UID:10012005-1773849600-1773856800@thelodgeatindianlake.com
SUMMARY:Happy Hour at the Lodge
DESCRIPTION:Enjoy our $5 Craft Beers\, $4 House Wines and $5 OFF all appetizers from 4pm to 6pm Wednesday\, Thursday and Friday every week.
URL:https://thelodgeatindianlake.com/events/lodge-happy-hour/2026-03-18/
LOCATION:The Lodge at Indian Lake\, 700 S Shore Trail\, Central City\, PA\, 15926\, United States
CATEGORIES:Happy Hour,Specials
ATTACH;FMTTYPE=image/jpeg:https://thelodgeatindianlake.com/wp-content/uploads/2024/02/IMG_8787.jpeg
END:VEVENT
BEGIN:VEVENT
DTSTART;TZID=America/New_York:20260319T160000
DTEND;TZID=America/New_York:20260319T180000
DTSTAMP:20260424T052310
CREATED:20240202T231440Z
LAST-MODIFIED:20260301T181810Z
UID:10012006-1773936000-1773943200@thelodgeatindianlake.com
SUMMARY:Happy Hour at the Lodge
DESCRIPTION:Enjoy our $5 Craft Beers\, $4 House Wines and $5 OFF all appetizers from 4pm to 6pm Wednesday\, Thursday and Friday every week.
URL:https://thelodgeatindianlake.com/events/lodge-happy-hour/2026-03-19/
LOCATION:The Lodge at Indian Lake\, 700 S Shore Trail\, Central City\, PA\, 15926\, United States
CATEGORIES:Happy Hour,Specials
ATTACH;FMTTYPE=image/jpeg:https://thelodgeatindianlake.com/wp-content/uploads/2024/02/IMG_8787.jpeg
END:VEVENT
BEGIN:VEVENT
DTSTART;TZID=America/New_York:20260320T160000
DTEND;TZID=America/New_York:20260320T180000
DTSTAMP:20260424T052310
CREATED:20240202T231440Z
LAST-MODIFIED:20260301T181810Z
UID:10012007-1774022400-1774029600@thelodgeatindianlake.com
SUMMARY:Happy Hour at the Lodge
DESCRIPTION:Enjoy our $5 Craft Beers\, $4 House Wines and $5 OFF all appetizers from 4pm to 6pm Wednesday\, Thursday and Friday every week.
URL:https://thelodgeatindianlake.com/events/lodge-happy-hour/2026-03-20/
LOCATION:The Lodge at Indian Lake\, 700 S Shore Trail\, Central City\, PA\, 15926\, United States
CATEGORIES:Happy Hour,Specials
ATTACH;FMTTYPE=image/jpeg:https://thelodgeatindianlake.com/wp-content/uploads/2024/02/IMG_8787.jpeg
END:VEVENT
BEGIN:VEVENT
DTSTART;TZID=America/New_York:20260325T160000
DTEND;TZID=America/New_York:20260325T180000
DTSTAMP:20260424T052310
CREATED:20240202T231440Z
LAST-MODIFIED:20260301T181810Z
UID:10012008-1774454400-1774461600@thelodgeatindianlake.com
SUMMARY:Happy Hour at the Lodge
DESCRIPTION:Enjoy our $5 Craft Beers\, $4 House Wines and $5 OFF all appetizers from 4pm to 6pm Wednesday\, Thursday and Friday every week.
URL:https://thelodgeatindianlake.com/events/lodge-happy-hour/2026-03-25/
LOCATION:The Lodge at Indian Lake\, 700 S Shore Trail\, Central City\, PA\, 15926\, United States
CATEGORIES:Happy Hour,Specials
ATTACH;FMTTYPE=image/jpeg:https://thelodgeatindianlake.com/wp-content/uploads/2024/02/IMG_8787.jpeg
END:VEVENT
BEGIN:VEVENT
DTSTART;TZID=America/New_York:20260326T160000
DTEND;TZID=America/New_York:20260326T180000
DTSTAMP:20260424T052310
CREATED:20240202T231440Z
LAST-MODIFIED:20260301T181810Z
UID:10012009-1774540800-1774548000@thelodgeatindianlake.com
SUMMARY:Happy Hour at the Lodge
DESCRIPTION:Enjoy our $5 Craft Beers\, $4 House Wines and $5 OFF all appetizers from 4pm to 6pm Wednesday\, Thursday and Friday every week.
URL:https://thelodgeatindianlake.com/events/lodge-happy-hour/2026-03-26/
LOCATION:The Lodge at Indian Lake\, 700 S Shore Trail\, Central City\, PA\, 15926\, United States
CATEGORIES:Happy Hour,Specials
ATTACH;FMTTYPE=image/jpeg:https://thelodgeatindianlake.com/wp-content/uploads/2024/02/IMG_8787.jpeg
END:VEVENT
BEGIN:VEVENT
DTSTART;TZID=America/New_York:20260327T160000
DTEND;TZID=America/New_York:20260327T180000
DTSTAMP:20260424T052310
CREATED:20240202T231440Z
LAST-MODIFIED:20260301T181810Z
UID:10012010-1774627200-1774634400@thelodgeatindianlake.com
SUMMARY:Happy Hour at the Lodge
DESCRIPTION:Enjoy our $5 Craft Beers\, $4 House Wines and $5 OFF all appetizers from 4pm to 6pm Wednesday\, Thursday and Friday every week.
URL:https://thelodgeatindianlake.com/events/lodge-happy-hour/2026-03-27/
LOCATION:The Lodge at Indian Lake\, 700 S Shore Trail\, Central City\, PA\, 15926\, United States
CATEGORIES:Happy Hour,Specials
ATTACH;FMTTYPE=image/jpeg:https://thelodgeatindianlake.com/wp-content/uploads/2024/02/IMG_8787.jpeg
END:VEVENT
END:VCALENDAR