BEGIN:VCALENDAR
VERSION:2.0
PRODID:-//The Lodge at Indian Lake - ECPv6.15.20//NONSGML v1.0//EN
CALSCALE:GREGORIAN
METHOD:PUBLISH
X-ORIGINAL-URL:https://thelodgeatindianlake.com
X-WR-CALDESC:Events for The Lodge at Indian Lake
REFRESH-INTERVAL;VALUE=DURATION:PT1H
X-Robots-Tag:noindex
X-PUBLISHED-TTL:PT1H
BEGIN:VTIMEZONE
TZID:America/New_York
BEGIN:DAYLIGHT
TZOFFSETFROM:-0500
TZOFFSETTO:-0400
TZNAME:EDT
DTSTART:20220313T070000
END:DAYLIGHT
BEGIN:STANDARD
TZOFFSETFROM:-0400
TZOFFSETTO:-0500
TZNAME:EST
DTSTART:20221106T060000
END:STANDARD
BEGIN:DAYLIGHT
TZOFFSETFROM:-0500
TZOFFSETTO:-0400
TZNAME:EDT
DTSTART:20230312T070000
END:DAYLIGHT
BEGIN:STANDARD
TZOFFSETFROM:-0400
TZOFFSETTO:-0500
TZNAME:EST
DTSTART:20231105T060000
END:STANDARD
BEGIN:DAYLIGHT
TZOFFSETFROM:-0500
TZOFFSETTO:-0400
TZNAME:EDT
DTSTART:20240310T070000
END:DAYLIGHT
BEGIN:STANDARD
TZOFFSETFROM:-0400
TZOFFSETTO:-0500
TZNAME:EST
DTSTART:20241103T060000
END:STANDARD
END:VTIMEZONE
BEGIN:VEVENT
DTSTART;TZID=America/New_York:20231229T170000
DTEND;TZID=America/New_York:20231229T220000
DTSTAMP:20260423T083333
CREATED:20230914T182857Z
LAST-MODIFIED:20230914T182857Z
UID:10009582-1703869200-1703887200@thelodgeatindianlake.com
SUMMARY:Wedding Sarah & Alex
DESCRIPTION:
URL:https://thelodgeatindianlake.com/events/wedding-sarah-alex/
LOCATION:The Lodge at Indian Lake\, 700 S Shore Trail\, Central City\, PA\, 15926\, United States
CATEGORIES:Private,Special Event,Wedding
END:VEVENT
BEGIN:VEVENT
DTSTART;TZID=America/New_York:20231202T123000
DTEND;TZID=America/New_York:20231202T160000
DTSTAMP:20260423T083333
CREATED:20231002T133954Z
LAST-MODIFIED:20231002T133954Z
UID:10009624-1701520200-1701532800@thelodgeatindianlake.com
SUMMARY:Private Event
DESCRIPTION:
URL:https://thelodgeatindianlake.com/events/private-event-2/
LOCATION:The Lodge at Indian Lake\, 700 S Shore Trail\, Central City\, PA\, 15926\, United States
CATEGORIES:Private,Special Event,Wedding
END:VEVENT
BEGIN:VEVENT
DTSTART;TZID=America/New_York:20231104T170000
DTEND;TZID=America/New_York:20231104T220000
DTSTAMP:20260423T083333
CREATED:20220901T132915Z
LAST-MODIFIED:20220901T132915Z
UID:10007814-1699117200-1699135200@thelodgeatindianlake.com
SUMMARY:Wedding Sarah & Jesse
DESCRIPTION:Wedding Reception in Thunderbird Room & Deck \nBar Restaurant & Taproom is OPEN!
URL:https://thelodgeatindianlake.com/events/wedding-sarah-jesse/
LOCATION:The Lodge at Indian Lake\, 700 S Shore Trail\, Central City\, PA\, 15926\, United States
CATEGORIES:Private,Wedding
END:VEVENT
BEGIN:VEVENT
DTSTART;TZID=America/New_York:20231020T160000
DTEND;TZID=America/New_York:20231020T220000
DTSTAMP:20260423T083333
CREATED:20230118T173214Z
LAST-MODIFIED:20230118T173333Z
UID:10008892-1697817600-1697839200@thelodgeatindianlake.com
SUMMARY:Wedding Olivia & Ryan
DESCRIPTION:Wedding Reception in Thunderbird Room & Deck \nBar Restaurant & Taproom is OPEN!
URL:https://thelodgeatindianlake.com/events/olivia-ryan/
LOCATION:The Lodge at Indian Lake\, 700 S Shore Trail\, Central City\, PA\, 15926\, United States
CATEGORIES:Special Event,Wedding
END:VEVENT
BEGIN:VEVENT
DTSTART;TZID=America/New_York:20231014T170000
DTEND;TZID=America/New_York:20231014T220000
DTSTAMP:20260423T083333
CREATED:20220901T132745Z
LAST-MODIFIED:20220901T132745Z
UID:10007660-1697302800-1697320800@thelodgeatindianlake.com
SUMMARY:Wedding Michelle & Gregory
DESCRIPTION:Wedding Reception in Thunderbird Room & Deck \nBar Restaurant & Taproom is OPEN!
URL:https://thelodgeatindianlake.com/events/wedding-michelle-gregory/
LOCATION:The Lodge at Indian Lake\, 700 S Shore Trail\, Central City\, PA\, 15926\, United States
CATEGORIES:Private,Wedding
END:VEVENT
BEGIN:VEVENT
DTSTART;TZID=America/New_York:20231007T170000
DTEND;TZID=America/New_York:20231007T220000
DTSTAMP:20260423T083333
CREATED:20221012T175329Z
LAST-MODIFIED:20221012T175330Z
UID:10008409-1696698000-1696716000@thelodgeatindianlake.com
SUMMARY:Wedding Terra & Tyler
DESCRIPTION:
URL:https://thelodgeatindianlake.com/events/wedding-terra-tyler/
LOCATION:The Lodge at Indian Lake\, 700 S Shore Trail\, Central City\, PA\, 15926\, United States
CATEGORIES:Private,Wedding
END:VEVENT
BEGIN:VEVENT
DTSTART;TZID=America/New_York:20230930T170000
DTEND;TZID=America/New_York:20230930T220000
DTSTAMP:20260423T083333
CREATED:20220901T132633Z
LAST-MODIFIED:20220901T132633Z
UID:10007659-1696093200-1696111200@thelodgeatindianlake.com
SUMMARY:Wedding Marissa & Alex
DESCRIPTION:Wedding Reception in Thunderbird Room & Deck \nBar Restaurant & Taproom is OPEN!
URL:https://thelodgeatindianlake.com/events/wedding-marissa-alex-2/
LOCATION:The Lodge at Indian Lake\, 700 S Shore Trail\, Central City\, PA\, 15926\, United States
CATEGORIES:Private,Wedding
END:VEVENT
BEGIN:VEVENT
DTSTART;TZID=America/New_York:20230923T170000
DTEND;TZID=America/New_York:20230923T220000
DTSTAMP:20260423T083333
CREATED:20220901T132531Z
LAST-MODIFIED:20220901T132531Z
UID:10007658-1695488400-1695506400@thelodgeatindianlake.com
SUMMARY:Wedding Mallory & Spencer
DESCRIPTION:Wedding Reception in Thunderbird Room & Deck \nBar Restaurant & Taproom is OPEN!
URL:https://thelodgeatindianlake.com/events/wedding-mallory-spencer/
LOCATION:The Lodge at Indian Lake\, 700 S Shore Trail\, Central City\, PA\, 15926\, United States
CATEGORIES:Private,Wedding
END:VEVENT
BEGIN:VEVENT
DTSTART;TZID=America/New_York:20230916T170000
DTEND;TZID=America/New_York:20230916T220000
DTSTAMP:20260423T083333
CREATED:20220901T132450Z
LAST-MODIFIED:20220901T132450Z
UID:10007596-1694883600-1694901600@thelodgeatindianlake.com
SUMMARY:Wedding Catherine & Jason
DESCRIPTION:Wedding Reception in Thunderbird Room & Deck \nBar Restaurant & Taproom is OPEN!
URL:https://thelodgeatindianlake.com/events/wedding-catherine-jason/
LOCATION:The Lodge at Indian Lake\, 700 S Shore Trail\, Central City\, PA\, 15926\, United States
CATEGORIES:Private,Wedding
END:VEVENT
BEGIN:VEVENT
DTSTART;TZID=America/New_York:20230909T170000
DTEND;TZID=America/New_York:20230909T220000
DTSTAMP:20260423T083333
CREATED:20220901T132401Z
LAST-MODIFIED:20220901T132401Z
UID:10008402-1694278800-1694296800@thelodgeatindianlake.com
SUMMARY:Wedding Sarah & William
DESCRIPTION:Wedding Reception in Thunderbird Room & Deck \nBar Restaurant & Taproom is OPEN!
URL:https://thelodgeatindianlake.com/events/wedding-sarah-william/
LOCATION:The Lodge at Indian Lake\, 700 S Shore Trail\, Central City\, PA\, 15926\, United States
CATEGORIES:Private,Wedding
END:VEVENT
BEGIN:VEVENT
DTSTART;TZID=America/New_York:20230819T170000
DTEND;TZID=America/New_York:20230819T220000
DTSTAMP:20260423T083333
CREATED:20220901T132324Z
LAST-MODIFIED:20220901T132324Z
UID:10008401-1692464400-1692482400@thelodgeatindianlake.com
SUMMARY:Wedding Allison & Nicholas
DESCRIPTION:Wedding Reception in Thunderbird Room & Deck \nBar Restaurant & Taproom is OPEN!
URL:https://thelodgeatindianlake.com/events/wedding-allison-nicholas/
LOCATION:The Lodge at Indian Lake\, 700 S Shore Trail\, Central City\, PA\, 15926\, United States
CATEGORIES:Private,Wedding
END:VEVENT
BEGIN:VEVENT
DTSTART;TZID=America/New_York:20230812T170000
DTEND;TZID=America/New_York:20230812T220000
DTSTAMP:20260423T083333
CREATED:20220901T132241Z
LAST-MODIFIED:20220901T132241Z
UID:10008400-1691859600-1691877600@thelodgeatindianlake.com
SUMMARY:Wedding Kayla & Nicholas
DESCRIPTION:Wedding Reception in Thunderbird Room & Deck \nBar Restaurant & Taproom is OPEN!
URL:https://thelodgeatindianlake.com/events/wedding-kayla-nicholas/
LOCATION:The Lodge at Indian Lake\, 700 S Shore Trail\, Central City\, PA\, 15926\, United States
CATEGORIES:Private,Wedding
END:VEVENT
BEGIN:VEVENT
DTSTART;TZID=America/New_York:20230617T170000
DTEND;TZID=America/New_York:20230617T220000
DTSTAMP:20260423T083333
CREATED:20221119T181423Z
LAST-MODIFIED:20221119T181423Z
UID:10008414-1687021200-1687039200@thelodgeatindianlake.com
SUMMARY:Wedding Elizabeth & Justin
DESCRIPTION:Wedding Reception in Thunderbird Room & Deck \nBar Restaurant & Taproom is OPEN!
URL:https://thelodgeatindianlake.com/events/wedding-elizabeth-justin/
LOCATION:The Lodge at Indian Lake\, 700 S Shore Trail\, Central City\, PA\, 15926\, United States
CATEGORIES:Private,Special Event,Wedding
END:VEVENT
BEGIN:VEVENT
DTSTART;TZID=America/New_York:20230603T170000
DTEND;TZID=America/New_York:20230603T220000
DTSTAMP:20260423T083334
CREATED:20220901T132155Z
LAST-MODIFIED:20221119T181536Z
UID:10008399-1685811600-1685829600@thelodgeatindianlake.com
SUMMARY:Wedding Lauren & Rob
DESCRIPTION:Wedding Reception in Thunderbird Room & Deck \nBar Restaurant & Taproom is OPEN!
URL:https://thelodgeatindianlake.com/events/wedding-lauren-rob-2/
LOCATION:The Lodge at Indian Lake\, 700 S Shore Trail\, Central City\, PA\, 15926\, United States
CATEGORIES:Private,Special Event,Wedding
END:VEVENT
BEGIN:VEVENT
DTSTART;TZID=America/New_York:20230506T170000
DTEND;TZID=America/New_York:20230506T220000
DTSTAMP:20260423T083334
CREATED:20221012T172743Z
LAST-MODIFIED:20221012T172744Z
UID:10008404-1683392400-1683410400@thelodgeatindianlake.com
SUMMARY:Wedding Amy & Evan
DESCRIPTION:Wedding Reception in Thunderbird Room & Deck \nBar Restaurant & Taproom is OPEN!
URL:https://thelodgeatindianlake.com/events/wedding-amy-evan/
LOCATION:The Lodge at Indian Lake\, 700 S Shore Trail\, Central City\, PA\, 15926\, United States
CATEGORIES:Private,Wedding
END:VEVENT
BEGIN:VEVENT
DTSTART;TZID=America/New_York:20230429T170000
DTEND;TZID=America/New_York:20230429T220000
DTSTAMP:20260423T083334
CREATED:20221223T230258Z
LAST-MODIFIED:20221223T230259Z
UID:10008843-1682787600-1682805600@thelodgeatindianlake.com
SUMMARY:Wedding Mandy & Steven
DESCRIPTION:Wedding Reception in Thunderbird Room & Deck \nBar Restaurant & Taproom is OPEN!
URL:https://thelodgeatindianlake.com/events/wedding-mandy-steven/
LOCATION:The Lodge at Indian Lake\, 700 S Shore Trail\, Central City\, PA\, 15926\, United States
CATEGORIES:Special Event,Wedding
END:VEVENT
BEGIN:VEVENT
DTSTART;TZID=America/New_York:20230422T170000
DTEND;TZID=America/New_York:20230422T220000
DTSTAMP:20260423T083334
CREATED:20220901T132005Z
LAST-MODIFIED:20220901T132005Z
UID:10008397-1682182800-1682200800@thelodgeatindianlake.com
SUMMARY:Wedding Amanda & Michael
DESCRIPTION:Wedding Reception in Thunderbird Room & Deck \nBar Restaurant & Taproom is OPEN!
URL:https://thelodgeatindianlake.com/events/wedding-amanda-michael-2/
LOCATION:The Lodge at Indian Lake\, 700 S Shore Trail\, Central City\, PA\, 15926\, United States
CATEGORIES:Private,Wedding
END:VEVENT
END:VCALENDAR