BEGIN:VCALENDAR
VERSION:2.0
PRODID:-//The Lodge at Indian Lake - ECPv6.15.20//NONSGML v1.0//EN
CALSCALE:GREGORIAN
METHOD:PUBLISH
X-WR-CALNAME:The Lodge at Indian Lake
X-ORIGINAL-URL:https://thelodgeatindianlake.com
X-WR-CALDESC:Events for The Lodge at Indian Lake
REFRESH-INTERVAL;VALUE=DURATION:PT1H
X-Robots-Tag:noindex
X-PUBLISHED-TTL:PT1H
BEGIN:VTIMEZONE
TZID:America/New_York
BEGIN:DAYLIGHT
TZOFFSETFROM:-0500
TZOFFSETTO:-0400
TZNAME:EDT
DTSTART:20250309T070000
END:DAYLIGHT
BEGIN:STANDARD
TZOFFSETFROM:-0400
TZOFFSETTO:-0500
TZNAME:EST
DTSTART:20251102T060000
END:STANDARD
BEGIN:DAYLIGHT
TZOFFSETFROM:-0500
TZOFFSETTO:-0400
TZNAME:EDT
DTSTART:20260308T070000
END:DAYLIGHT
BEGIN:STANDARD
TZOFFSETFROM:-0400
TZOFFSETTO:-0500
TZNAME:EST
DTSTART:20261101T060000
END:STANDARD
BEGIN:DAYLIGHT
TZOFFSETFROM:-0500
TZOFFSETTO:-0400
TZNAME:EDT
DTSTART:20270314T070000
END:DAYLIGHT
BEGIN:STANDARD
TZOFFSETFROM:-0400
TZOFFSETTO:-0500
TZNAME:EST
DTSTART:20271107T060000
END:STANDARD
END:VTIMEZONE
BEGIN:VEVENT
DTSTART;TZID=America/New_York:20260522T180000
DTEND;TZID=America/New_York:20260522T210000
DTSTAMP:20260424T041059
CREATED:20250415T152454Z
LAST-MODIFIED:20260227T195923Z
UID:10011841-1779472800-1779483600@thelodgeatindianlake.com
SUMMARY:Matt Burns Acoustics
DESCRIPTION:From Altoona\, playing on area stages since the 90's\, Matt has been in numerous bands along with consistently playing as a solo acoustic act for the last 20 years
URL:https://thelodgeatindianlake.com/events/matt-burns-acoustics/2026-05-22/
LOCATION:The Lodge at Indian Lake\, 700 S Shore Trail\, Central City\, PA\, 15926\, United States
CATEGORIES:Acoustic Music,Special Event
ATTACH;FMTTYPE=image/jpeg:https://thelodgeatindianlake.com/wp-content/uploads/2025/04/IMG_5963.jpeg
END:VEVENT
BEGIN:VEVENT
DTSTART;TZID=America/New_York:20260619T080000
DTEND;TZID=America/New_York:20260619T170000
DTSTAMP:20260424T041059
CREATED:20250415T152454Z
LAST-MODIFIED:20260227T195923Z
UID:10011842-1781856000-1781888400@thelodgeatindianlake.com
SUMMARY:Matt Burns Acoustics
DESCRIPTION:From Altoona\, playing on area stages since the 90's\, Matt has been in numerous bands along with consistently playing as a solo acoustic act for the last 20 years
URL:https://thelodgeatindianlake.com/events/matt-burns-acoustics/2026-06-19/
LOCATION:The Lodge at Indian Lake\, 700 S Shore Trail\, Central City\, PA\, 15926\, United States
CATEGORIES:Acoustic Music,Special Event
ATTACH;FMTTYPE=image/jpeg:https://thelodgeatindianlake.com/wp-content/uploads/2025/04/IMG_5963.jpeg
END:VEVENT
BEGIN:VEVENT
DTSTART;TZID=America/New_York:20260814T180000
DTEND;TZID=America/New_York:20260814T210000
DTSTAMP:20260424T041059
CREATED:20250415T152454Z
LAST-MODIFIED:20260227T195923Z
UID:10011843-1786730400-1786741200@thelodgeatindianlake.com
SUMMARY:Matt Burns Acoustics
DESCRIPTION:From Altoona\, playing on area stages since the 90's\, Matt has been in numerous bands along with consistently playing as a solo acoustic act for the last 20 years
URL:https://thelodgeatindianlake.com/events/matt-burns-acoustics/2026-08-14/
LOCATION:The Lodge at Indian Lake\, 700 S Shore Trail\, Central City\, PA\, 15926\, United States
CATEGORIES:Acoustic Music,Special Event
ATTACH;FMTTYPE=image/jpeg:https://thelodgeatindianlake.com/wp-content/uploads/2025/04/IMG_5963.jpeg
END:VEVENT
BEGIN:VEVENT
DTSTART;TZID=America/New_York:20260911T180000
DTEND;TZID=America/New_York:20260911T210000
DTSTAMP:20260424T041059
CREATED:20250415T152454Z
LAST-MODIFIED:20260227T195923Z
UID:10011844-1789149600-1789160400@thelodgeatindianlake.com
SUMMARY:Matt Burns Acoustics
DESCRIPTION:From Altoona\, playing on area stages since the 90's\, Matt has been in numerous bands along with consistently playing as a solo acoustic act for the last 20 years
URL:https://thelodgeatindianlake.com/events/matt-burns-acoustics/2026-09-11/
LOCATION:The Lodge at Indian Lake\, 700 S Shore Trail\, Central City\, PA\, 15926\, United States
CATEGORIES:Acoustic Music,Special Event
ATTACH;FMTTYPE=image/jpeg:https://thelodgeatindianlake.com/wp-content/uploads/2025/04/IMG_5963.jpeg
END:VEVENT
BEGIN:VEVENT
DTSTART;TZID=America/New_York:20261016T180000
DTEND;TZID=America/New_York:20261016T210000
DTSTAMP:20260424T041059
CREATED:20250415T152454Z
LAST-MODIFIED:20260227T195923Z
UID:10011845-1792173600-1792184400@thelodgeatindianlake.com
SUMMARY:Matt Burns Acoustics
DESCRIPTION:From Altoona\, playing on area stages since the 90's\, Matt has been in numerous bands along with consistently playing as a solo acoustic act for the last 20 years
URL:https://thelodgeatindianlake.com/events/matt-burns-acoustics/2026-10-16/
LOCATION:The Lodge at Indian Lake\, 700 S Shore Trail\, Central City\, PA\, 15926\, United States
CATEGORIES:Acoustic Music,Special Event
ATTACH;FMTTYPE=image/jpeg:https://thelodgeatindianlake.com/wp-content/uploads/2025/04/IMG_5963.jpeg
END:VEVENT
END:VCALENDAR