BEGIN:VCALENDAR
VERSION:2.0
PRODID:-//The Lodge at Indian Lake - ECPv6.15.20//NONSGML v1.0//EN
CALSCALE:GREGORIAN
METHOD:PUBLISH
X-WR-CALNAME:The Lodge at Indian Lake
X-ORIGINAL-URL:https://thelodgeatindianlake.com
X-WR-CALDESC:Events for The Lodge at Indian Lake
REFRESH-INTERVAL;VALUE=DURATION:PT1H
X-Robots-Tag:noindex
X-PUBLISHED-TTL:PT1H
BEGIN:VTIMEZONE
TZID:America/New_York
BEGIN:DAYLIGHT
TZOFFSETFROM:-0500
TZOFFSETTO:-0400
TZNAME:EDT
DTSTART:20250309T070000
END:DAYLIGHT
BEGIN:STANDARD
TZOFFSETFROM:-0400
TZOFFSETTO:-0500
TZNAME:EST
DTSTART:20251102T060000
END:STANDARD
BEGIN:DAYLIGHT
TZOFFSETFROM:-0500
TZOFFSETTO:-0400
TZNAME:EDT
DTSTART:20260308T070000
END:DAYLIGHT
BEGIN:STANDARD
TZOFFSETFROM:-0400
TZOFFSETTO:-0500
TZNAME:EST
DTSTART:20261101T060000
END:STANDARD
BEGIN:DAYLIGHT
TZOFFSETFROM:-0500
TZOFFSETTO:-0400
TZNAME:EDT
DTSTART:20270314T070000
END:DAYLIGHT
BEGIN:STANDARD
TZOFFSETFROM:-0400
TZOFFSETTO:-0500
TZNAME:EST
DTSTART:20271107T060000
END:STANDARD
BEGIN:DAYLIGHT
TZOFFSETFROM:-0500
TZOFFSETTO:-0400
TZNAME:EDT
DTSTART:20280312T070000
END:DAYLIGHT
BEGIN:STANDARD
TZOFFSETFROM:-0400
TZOFFSETTO:-0500
TZNAME:EST
DTSTART:20281105T060000
END:STANDARD
END:VTIMEZONE
BEGIN:VEVENT
DTSTART;TZID=America/New_York:20260522T180000
DTEND;TZID=America/New_York:20260522T210000
DTSTAMP:20260420T041257
CREATED:20250415T152454Z
LAST-MODIFIED:20260227T195923Z
UID:10011841-1779472800-1779483600@thelodgeatindianlake.com
SUMMARY:Matt Burns Acoustics
DESCRIPTION:From Altoona\, playing on area stages since the 90's\, Matt has been in numerous bands along with consistently playing as a solo acoustic act for the last 20 years
URL:https://thelodgeatindianlake.com/events/matt-burns-acoustics/2026-05-22/
LOCATION:The Lodge at Indian Lake\, 700 S Shore Trail\, Central City\, PA\, 15926\, United States
CATEGORIES:Acoustic Music,Special Event
ATTACH;FMTTYPE=image/jpeg:https://thelodgeatindianlake.com/wp-content/uploads/2025/04/IMG_5963.jpeg
END:VEVENT
BEGIN:VEVENT
DTSTART;TZID=America/New_York:20260528T190000
DTEND;TZID=America/New_York:20260528T220000
DTSTAMP:20260420T041257
CREATED:20260323T111859Z
LAST-MODIFIED:20260328T114937Z
UID:10012132-1779994800-1780005600@thelodgeatindianlake.com
SUMMARY:Karaaoke Nights
DESCRIPTION:Let us hear what you got on this fun evening. Also\, enjoy those .90 wings and our $3 doller Yuengling draft specials
URL:https://thelodgeatindianlake.com/events/karaaoke-nights/2026-05-28/
LOCATION:The Lodge at Indian Lake\, 700 S Shore Trail\, Central City\, PA\, 15926\, United States
CATEGORIES:DJ,Karaoke,Live Music
ATTACH;FMTTYPE=image/png:https://thelodgeatindianlake.com/wp-content/uploads/2026/03/Blue-Modern-Karaoke-Instagram-Post.png
END:VEVENT
BEGIN:VEVENT
DTSTART;TZID=America/New_York:20260529T180000
DTEND;TZID=America/New_York:20260529T210000
DTSTAMP:20260420T041257
CREATED:20191009T174354Z
LAST-MODIFIED:20260227T195044Z
UID:10011828-1780077600-1780088400@thelodgeatindianlake.com
SUMMARY:Dean Rumsey Acoustics
DESCRIPTION:Performing acoustic music covers of America\, Beatles\, Eagles\, Neil Young\, James Taylor\, John Denver\, Jimmy Buffett\, and more!
URL:https://thelodgeatindianlake.com/events/dean-rumsey/2026-05-29/
LOCATION:The Lodge at Indian Lake\, 700 S Shore Trail\, Central City\, PA\, 15926\, United States
CATEGORIES:Acoustic Music,Live Music
ATTACH;FMTTYPE=image/jpeg:https://thelodgeatindianlake.com/wp-content/uploads/2019/10/IMG_5310.jpg
END:VEVENT
BEGIN:VEVENT
DTSTART;TZID=America/New_York:20260620T200000
DTEND;TZID=America/New_York:20260620T230000
DTSTAMP:20260420T041257
CREATED:20260225T032351Z
LAST-MODIFIED:20260316T105643Z
UID:10011824-1781985600-1781996400@thelodgeatindianlake.com
SUMMARY:The Jo Shmos
DESCRIPTION:The Jo Shmos are a band of 4 goofy friends from Cleveland\, Ohio. Although their original songs range from alternative rock\, country\, and pop punk; they cover a wide variety of genres from 80’s rock\, 90’s alternative\, and early 2000’s nostalgic pop. With The Jo Shmos\, there’s something for everyone to enjoy!
URL:https://thelodgeatindianlake.com/events/the-jo-shmos/
LOCATION:The Lodge at Indian Lake\, 700 S Shore Trail\, Central City\, PA\, 15926\, United States
CATEGORIES:Bands,Live Music,Special Event
ATTACH;FMTTYPE=image/jpeg:https://thelodgeatindianlake.com/wp-content/uploads/2026/02/IMG_8765.jpeg
END:VEVENT
BEGIN:VEVENT
DTSTART;TZID=America/New_York:20260717T180000
DTEND;TZID=America/New_York:20260717T210000
DTSTAMP:20260420T041257
CREATED:20221012T161453Z
LAST-MODIFIED:20260227T193153Z
UID:10011827-1784311200-1784322000@thelodgeatindianlake.com
SUMMARY:Lois Scott
DESCRIPTION:Long before ‘country was cool’ Lois Scott has been entertaining audiences across the USA and Canada since she was 8 years old. Lois was born into country music\, as her father\, ‘Ramblin' Roy Scott was a regular country artist on the world famous WWVa Jamboree in Wheeling\, West Virginia. Roy took Lois on the road many times as a little girl to perform with him in his shows. \nLois has recorded 3 albums to her credit\, and many more\, singing back up harmony vocals for local country/rock/blues artists \nIn 2015\, in honor of her father\, Lois formed her own Country Jamboree Show reminiscent of the original WWVA/Jamboree USA show format that she continues to this day.
URL:https://thelodgeatindianlake.com/events/lois-scott/2026-07-17/
LOCATION:The Lodge at Indian Lake\, 700 S Shore Trail\, Central City\, PA\, 15926\, United States
CATEGORIES:Acoustic Music,Live Music
ATTACH;FMTTYPE=image/jpeg:https://thelodgeatindianlake.com/wp-content/uploads/2022/10/Lois-Scott-.jpg
END:VEVENT
BEGIN:VEVENT
DTSTART;TZID=America/New_York:20260829T200000
DTEND;TZID=America/New_York:20260829T230000
DTSTAMP:20260420T041257
CREATED:20260126T161315Z
LAST-MODIFIED:20260316T111459Z
UID:10011715-1788033600-1788044400@thelodgeatindianlake.com
SUMMARY:Hot Weather Holiday
DESCRIPTION:Enjoy one of Pittsburgh's top dance bands 🎸 \nHot Weather Holiday is a band based out of the Pittsburgh\, Pennsylvania region and features musicians Cathleen Ireland\, Joe Chilcott\, Anton Bykov and Frank DiDiano. They blended their talents over a shared passion for sound\, rhythm and beats. Each member brings a unique musical aesthetic to the band with a mix of genres and influences. \n 
URL:https://thelodgeatindianlake.com/events/hot-weather-holiday/
LOCATION:The Lodge at Indian Lake\, 700 S Shore Trail\, Central City\, PA\, 15926\, United States
CATEGORIES:Bands,Live Music,Special Event
ATTACH;FMTTYPE=image/jpeg:https://thelodgeatindianlake.com/wp-content/uploads/2023/02/IMG_7220.jpeg
END:VEVENT
BEGIN:VEVENT
DTSTART;TZID=America/New_York:20261025T110000
DTEND;TZID=America/New_York:20261025T130000
DTSTAMP:20260420T041257
CREATED:20211012T005344Z
LAST-MODIFIED:20250911T112633Z
UID:10011396-1792926000-1792933200@thelodgeatindianlake.com
SUMMARY:'Trick or Treat' at The Lodge
DESCRIPTION:🎃 Sunday October 26th at 11am 👻 \nBring those little ghosts\, goblins and princesses to the Lodge for some ‘Trick or Treating’ in our Thunderbird Room! Please come 1 hour early at 10am if you are volunteering and decorating a table to hand out candy. \nBrunch Buffet from 10am to 1pm as well and all the KIDS in costumes eat for ‘Half Off’ 😊😊😊 \nEnjoy 😉
URL:https://thelodgeatindianlake.com/events/trick-or-treat-at-the-lodge/2026-10-25/
LOCATION:The Lodge at Indian Lake\, 700 S Shore Trail\, Central City\, PA\, 15926\, United States
CATEGORIES:Trick or Treat
ATTACH;FMTTYPE=image/jpeg:https://thelodgeatindianlake.com/wp-content/uploads/2021/10/IMG_3047.jpg
END:VEVENT
BEGIN:VEVENT
DTSTART;TZID=America/New_York:20261031T210000
DTEND;TZID=America/New_York:20261031T235900
DTSTAMP:20260420T041257
CREATED:20211012T004907Z
LAST-MODIFIED:20250911T112152Z
UID:10011395-1793480400-1793491140@thelodgeatindianlake.com
SUMMARY:The Annual Lodge Halloween Costume Party
DESCRIPTION:Join us for a Halloween Costume Party November 1st! Costumes are REQUIRED and the fun is automatic. Our DJ of the evening will be mixing up your favorites and there will be prizes and giveaways for the BEST Costumes (Funniest\, Most Original and of course Sexiest)!\nIt’s a Halloween Party like only the Lodge can do!
URL:https://thelodgeatindianlake.com/events/halloween-costume-party/2026-10-31/
LOCATION:The Lodge at Indian Lake\, 700 S Shore Trail\, Central City\, PA\, 15926\, United States
CATEGORIES:Halloween Party,Special Event,Specials
ATTACH;FMTTYPE=image/jpeg:https://thelodgeatindianlake.com/wp-content/uploads/2019/09/halloween-party.jpg
END:VEVENT
BEGIN:VEVENT
DTSTART;TZID=America/New_York:20261121T200000
DTEND;TZID=America/New_York:20261121T230000
DTSTAMP:20260420T041257
CREATED:20231010T183016Z
LAST-MODIFIED:20260316T111559Z
UID:10012129-1795291200-1795302000@thelodgeatindianlake.com
SUMMARY:Metro
DESCRIPTION:Metro is a dynamic 4 piece band featuring male and female lead vocalist instrumentalist backed by a driving rhythm section. With an eclectic mix of music encompassing R&B\, Country\, Funk\, Motown\, Pop\, and Rock that captivate the listening audience while performing high-energy dance music and lively party songs that make Metro one of the most unique and entertaining dance bands around. This dynamic four-piece ensemble consists of Elisha Costello (vocals)\, Chris Caruso (bass\,vocals)\, Ron McBurney (guitar\, sound)\, and Glenn Durham (drums\, percussion). \nA truly diverse band\, Metro’s members each bring unique talents to the stage and perform high energy shows that make their faithful fans want to dance all night. Metro’s fun-loving spirit and undeniable musical talent come together to give you a fantastic experience that you won’t forget.
URL:https://thelodgeatindianlake.com/events/metro/2026-11-21/
LOCATION:The Lodge at Indian Lake\, 700 S Shore Trail\, Central City\, PA\, 15926\, United States
CATEGORIES:Bands,Live Music,Special Event
ATTACH;FMTTYPE=image/jpeg:https://thelodgeatindianlake.com/wp-content/uploads/2023/10/IMG_7946-scaled.jpeg
END:VEVENT
BEGIN:VEVENT
DTSTART;TZID=America/New_York:20261219T200000
DTEND;TZID=America/New_York:20261219T230000
DTSTAMP:20260420T041257
CREATED:20201114T193640Z
LAST-MODIFIED:20251229T035843Z
UID:10011645-1797710400-1797721200@thelodgeatindianlake.com
SUMMARY:A Christmas with ZUPE!
DESCRIPTION:Zupe regales his audiences with sumptuous arrangements of beloved Christmas songs\, interspersed with amusing stories and skits that harken back to the classic television Christmas specials (Zupe loved the Andy Williams shows!).
URL:https://thelodgeatindianlake.com/events/a-christmas-with-zupe-2020/2026-12-19/
LOCATION:The Lodge at Indian Lake\, 700 S Shore Trail\, Central City\, PA\, 15926\, United States
CATEGORIES:Bands,Live Music,Special Event
ATTACH;FMTTYPE=image/jpeg:https://thelodgeatindianlake.com/wp-content/uploads/2020/11/IMG_8241.jpeg
END:VEVENT
BEGIN:VEVENT
DTSTART;TZID=America/New_York:20261224T050000
DTEND;TZID=America/New_York:20261224T235900
DTSTAMP:20260420T041257
CREATED:20221012T164152Z
LAST-MODIFIED:20260219T124509Z
UID:10011716-1798088400-1798156740@thelodgeatindianlake.com
SUMMARY:Merry Christmas (Christmas Break)
DESCRIPTION:Sorry\, we will be closed our normal Monday but open for a special Tuesday & Karaoke Wednesday\, closed Christmas Eve Thursday and closed Christmas Day Friday of this week. Enjoy your time with family and friends
URL:https://thelodgeatindianlake.com/events/merry-christmas-christmas-break/2026-12-24/
LOCATION:The Lodge at Indian Lake\, 700 S Shore Trail\, Central City\, PA\, 15926\, United States
CATEGORIES:Christmas Break
ATTACH;FMTTYPE=image/jpeg:https://thelodgeatindianlake.com/wp-content/uploads/2022/10/IMG_0258-scaled.jpg
END:VEVENT
BEGIN:VEVENT
DTSTART;TZID=America/New_York:20261231T210000
DTEND;TZID=America/New_York:20270101T010000
DTSTAMP:20260420T041257
CREATED:20260225T024728Z
LAST-MODIFIED:20260225T030235Z
UID:10011788-1798750800-1798765200@thelodgeatindianlake.com
SUMMARY:New Years Eve Party (open to the public)
DESCRIPTION:Join us in our beautiful Thunderbird Room from 9pm to 1am for some drinks\, great music and lots of dancing\, all while bringing in the New Year. Have a happy 2027 at the Lodge. Restaurant will be open regular hours for anyone wanting to catch some delicious dinner before partying all night.
URL:https://thelodgeatindianlake.com/events/new-years-eve-party-open-to-the-public/
LOCATION:The Lodge at Indian Lake\, 700 S Shore Trail\, Central City\, PA\, 15926\, United States
CATEGORIES:DJ,New Years Eve
ATTACH;FMTTYPE=image/jpeg:https://thelodgeatindianlake.com/wp-content/uploads/2026/02/IMG_8764.jpeg
END:VEVENT
END:VCALENDAR