BEGIN:VCALENDAR
VERSION:2.0
PRODID:-//The Lodge at Indian Lake - ECPv6.15.20//NONSGML v1.0//EN
CALSCALE:GREGORIAN
METHOD:PUBLISH
X-ORIGINAL-URL:https://thelodgeatindianlake.com
X-WR-CALDESC:Events for The Lodge at Indian Lake
REFRESH-INTERVAL;VALUE=DURATION:PT1H
X-Robots-Tag:noindex
X-PUBLISHED-TTL:PT1H
BEGIN:VTIMEZONE
TZID:America/New_York
BEGIN:DAYLIGHT
TZOFFSETFROM:-0500
TZOFFSETTO:-0400
TZNAME:EDT
DTSTART:20250309T070000
END:DAYLIGHT
BEGIN:STANDARD
TZOFFSETFROM:-0400
TZOFFSETTO:-0500
TZNAME:EST
DTSTART:20251102T060000
END:STANDARD
BEGIN:DAYLIGHT
TZOFFSETFROM:-0500
TZOFFSETTO:-0400
TZNAME:EDT
DTSTART:20260308T070000
END:DAYLIGHT
BEGIN:STANDARD
TZOFFSETFROM:-0400
TZOFFSETTO:-0500
TZNAME:EST
DTSTART:20261101T060000
END:STANDARD
BEGIN:DAYLIGHT
TZOFFSETFROM:-0500
TZOFFSETTO:-0400
TZNAME:EDT
DTSTART:20270314T070000
END:DAYLIGHT
BEGIN:STANDARD
TZOFFSETFROM:-0400
TZOFFSETTO:-0500
TZNAME:EST
DTSTART:20271107T060000
END:STANDARD
END:VTIMEZONE
BEGIN:VEVENT
DTSTART;TZID=America/New_York:20260515T180000
DTEND;TZID=America/New_York:20260515T210000
DTSTAMP:20260421T111908
CREATED:20210217T011812Z
LAST-MODIFIED:20260227T200423Z
UID:10011846-1778868000-1778878800@thelodgeatindianlake.com
SUMMARY:Ray Christiansen
DESCRIPTION:Playing favorites from the late 60's and 70's.\nhttps://www.facebook.com/ray.christiansen.94
URL:https://thelodgeatindianlake.com/events/ray-christiansen/2026-05-15/
LOCATION:The Lodge at Indian Lake\, 700 S Shore Trail\, Central City\, PA\, 15926\, United States
CATEGORIES:Acoustic Music,Live Music
ATTACH;FMTTYPE=image/jpeg:https://thelodgeatindianlake.com/wp-content/uploads/2021/02/Ray-Christianson-at-The-Lodge.jpg
END:VEVENT
BEGIN:VEVENT
DTSTART;TZID=America/New_York:20260529T180000
DTEND;TZID=America/New_York:20260529T210000
DTSTAMP:20260421T111908
CREATED:20191009T174354Z
LAST-MODIFIED:20260227T195044Z
UID:10011828-1780077600-1780088400@thelodgeatindianlake.com
SUMMARY:Dean Rumsey Acoustics
DESCRIPTION:Performing acoustic music covers of America\, Beatles\, Eagles\, Neil Young\, James Taylor\, John Denver\, Jimmy Buffett\, and more!
URL:https://thelodgeatindianlake.com/events/dean-rumsey/2026-05-29/
LOCATION:The Lodge at Indian Lake\, 700 S Shore Trail\, Central City\, PA\, 15926\, United States
CATEGORIES:Acoustic Music,Live Music
ATTACH;FMTTYPE=image/jpeg:https://thelodgeatindianlake.com/wp-content/uploads/2019/10/IMG_5310.jpg
END:VEVENT
END:VCALENDAR