BEGIN:VCALENDAR
VERSION:2.0
PRODID:-//The Lodge at Indian Lake - ECPv6.15.20//NONSGML v1.0//EN
CALSCALE:GREGORIAN
METHOD:PUBLISH
X-ORIGINAL-URL:https://thelodgeatindianlake.com
X-WR-CALDESC:Events for The Lodge at Indian Lake
REFRESH-INTERVAL;VALUE=DURATION:PT1H
X-Robots-Tag:noindex
X-PUBLISHED-TTL:PT1H
BEGIN:VTIMEZONE
TZID:America/New_York
BEGIN:DAYLIGHT
TZOFFSETFROM:-0500
TZOFFSETTO:-0400
TZNAME:EDT
DTSTART:20220313T070000
END:DAYLIGHT
BEGIN:STANDARD
TZOFFSETFROM:-0400
TZOFFSETTO:-0500
TZNAME:EST
DTSTART:20221106T060000
END:STANDARD
BEGIN:DAYLIGHT
TZOFFSETFROM:-0500
TZOFFSETTO:-0400
TZNAME:EDT
DTSTART:20230312T070000
END:DAYLIGHT
BEGIN:STANDARD
TZOFFSETFROM:-0400
TZOFFSETTO:-0500
TZNAME:EST
DTSTART:20231105T060000
END:STANDARD
BEGIN:DAYLIGHT
TZOFFSETFROM:-0500
TZOFFSETTO:-0400
TZNAME:EDT
DTSTART:20240310T070000
END:DAYLIGHT
BEGIN:STANDARD
TZOFFSETFROM:-0400
TZOFFSETTO:-0500
TZNAME:EST
DTSTART:20241103T060000
END:STANDARD
BEGIN:DAYLIGHT
TZOFFSETFROM:-0500
TZOFFSETTO:-0400
TZNAME:EDT
DTSTART:20250309T070000
END:DAYLIGHT
BEGIN:STANDARD
TZOFFSETFROM:-0400
TZOFFSETTO:-0500
TZNAME:EST
DTSTART:20251102T060000
END:STANDARD
END:VTIMEZONE
BEGIN:VEVENT
DTSTART;TZID=America/New_York:20241227T180000
DTEND;TZID=America/New_York:20241227T210000
DTSTAMP:20260424T063625
CREATED:20230208T140416Z
LAST-MODIFIED:20240813T131409Z
UID:10010762-1735322400-1735333200@thelodgeatindianlake.com
SUMMARY:Acoustics with Brad Fisher
DESCRIPTION:Brad Fisher is a solo acoustic musician from Jennerstown\, PA.  He plays a variety of well known songs ranging from classic rock to folk to country. Every show has something for just about everyone \nFacebook Link: \nbradfishermusic
URL:https://thelodgeatindianlake.com/events/acoustics-with-brad-fisher/2024-12-27/
LOCATION:The Lodge at Indian Lake\, 700 S Shore Trail\, Central City\, PA\, 15926\, United States
CATEGORIES:Acoustic Music,Live Music,Specials
ATTACH;FMTTYPE=image/jpeg:https://thelodgeatindianlake.com/wp-content/uploads/2023/02/Brad-Fisher.jpg
END:VEVENT
BEGIN:VEVENT
DTSTART;TZID=America/New_York:20240524T180000
DTEND;TZID=America/New_York:20240524T210000
DTSTAMP:20260424T063625
CREATED:20230126T174759Z
LAST-MODIFIED:20240213T175742Z
UID:10009768-1716573600-1716584400@thelodgeatindianlake.com
SUMMARY:The Frick Brothers
DESCRIPTION:Jam with The Frick Brothers Johnstown area musicians who also play with the band 'Inside Out' performing acoustic music covers from 70's til now rock\, blues\, & pop. A wide variety to entertain all! \n 
URL:https://thelodgeatindianlake.com/events/the-frick-brothers/2024-05-24/
LOCATION:The Lodge at Indian Lake\, 700 S Shore Trail\, Central City\, PA\, 15926\, United States
CATEGORIES:Acoustic Music,Live Music
ATTACH;FMTTYPE=image/jpeg:https://thelodgeatindianlake.com/wp-content/uploads/2023/01/The-Frick-Brothers.jpg
END:VEVENT
BEGIN:VEVENT
DTSTART;TZID=America/New_York:20240302T210000
DTEND;TZID=America/New_York:20240302T235900
DTSTAMP:20260424T063625
CREATED:20240210T182839Z
LAST-MODIFIED:20240924T181952Z
UID:10010799-1709413200-1709423940@thelodgeatindianlake.com
SUMMARY:Lincoln Highway Band
DESCRIPTION:Alan Quinn - the owner and head brewer of Quinn Brewing Company will be here jamming with his band!  Join The Lincoln Highway Band (Formerly Triple Play) for some live music. "We use music as a means to celebrate life and bring people together." \n\nDon't miss an EXCELLENT band covering Classic and Yacht Rock Favorites & Sing A-longs
URL:https://thelodgeatindianlake.com/events/lincoln-highway-band/
LOCATION:The Lodge at Indian Lake\, 700 S Shore Trail\, Central City\, PA\, 15926\, United States
CATEGORIES:Bands,Live Music
ATTACH;FMTTYPE=image/jpeg:https://thelodgeatindianlake.com/wp-content/uploads/2023/08/Lincoln-Highway-Band.jpg
END:VEVENT
BEGIN:VEVENT
DTSTART;TZID=America/New_York:20240105T180000
DTEND;TZID=America/New_York:20240105T210000
DTSTAMP:20260424T063625
CREATED:20210217T011812Z
LAST-MODIFIED:20260227T200423Z
UID:10009635-1704477600-1704488400@thelodgeatindianlake.com
SUMMARY:Ray Christiansen
DESCRIPTION:Playing favorites from the late 60's and 70's.\nhttps://www.facebook.com/ray.christiansen.94
URL:https://thelodgeatindianlake.com/events/ray-christiansen/2024-01-05/
LOCATION:The Lodge at Indian Lake\, 700 S Shore Trail\, Central City\, PA\, 15926\, United States
CATEGORIES:Acoustic Music,Live Music
ATTACH;FMTTYPE=image/jpeg:https://thelodgeatindianlake.com/wp-content/uploads/2021/02/Ray-Christianson-at-The-Lodge.jpg
END:VEVENT
BEGIN:VEVENT
DTSTART;TZID=America/New_York:20230827T110000
DTEND;TZID=America/New_York:20230827T140000
DTSTAMP:20260424T063625
CREATED:20230710T215018Z
LAST-MODIFIED:20230722T163008Z
UID:10009502-1693134000-1693144800@thelodgeatindianlake.com
SUMMARY:David Titus Acoustic on the Deck
DESCRIPTION:Jam with Dave Titus on our beautiful deck overlooking Northwinds Golf course for Sunday Brunch!\nDave has been playing around the Latrobe and Greensburg area for the past 20 years with bands such as Monkey Business\, Stevie B duo\, J & The 3 D’s. A variety of classic hits from Hank Jr. To Tom Petty.\n(Inclement weather music will be inside The Lodge or Lucky Penny) \n  \n \n 
URL:https://thelodgeatindianlake.com/events/david-titus-acoustic-on-the-deck/2023-08-27/
LOCATION:The Lodge at Indian Lake\, 700 S Shore Trail\, Central City\, PA\, 15926\, United States
CATEGORIES:Bands,Live Music
ATTACH;FMTTYPE=image/jpeg:https://thelodgeatindianlake.com/wp-content/uploads/2023/06/Acoustic-BBC.jpg
END:VEVENT
BEGIN:VEVENT
DTSTART;TZID=America/New_York:20230806T110000
DTEND;TZID=America/New_York:20230806T140000
DTSTAMP:20260424T063625
CREATED:20230722T161223Z
LAST-MODIFIED:20230722T161637Z
UID:10009499-1691319600-1691330400@thelodgeatindianlake.com
SUMMARY:Jeff Perigo Acoustic on the Deck
DESCRIPTION:Jeff Perigo playing acoustic on our beautiful deck overlooking Northwinds Golf course for Sunday Brunch! \nSinger-songwriter Jeff Perigo has been playing music since 1994 in the Johnstown\, Indiana and Somerset areas — including acoustic or electric\, classic rock\, folk\, blues\, country rock and jam band\, AKA Rock n Rollgrass.\nHis influences include The Grateful Dead\, The Beatles\, The Band\, The Allman Brothers Band\, and many underground musicians he has seen throughout the years. He prefers writing blues-based rock songs and rearranging cover songs adding his own unique twist. \n(Inclement weather music will be inside The Lodge or Lucky Penny) \n \n 
URL:https://thelodgeatindianlake.com/events/jeff-perigo-acoustic-on-the-deck/
LOCATION:The Lodge at Indian Lake\, 700 S Shore Trail\, Central City\, PA\, 15926\, United States
CATEGORIES:Bands,Live Music
ATTACH;FMTTYPE=image/jpeg:https://thelodgeatindianlake.com/wp-content/uploads/2023/06/Acoustic-BBC.jpg
END:VEVENT
BEGIN:VEVENT
DTSTART;TZID=America/New_York:20230730T110000
DTEND;TZID=America/New_York:20230730T140000
DTSTAMP:20260424T063625
CREATED:20230722T164042Z
LAST-MODIFIED:20230728T172251Z
UID:10009503-1690714800-1690725600@thelodgeatindianlake.com
SUMMARY:Acoustic on the Deck
DESCRIPTION:Acoustic music on our beautiful deck overlooking Northwinds Golf course for Sunday Brunch! \n 
URL:https://thelodgeatindianlake.com/events/acoustic-on-the-deck/
LOCATION:The Lodge at Indian Lake\, 700 S Shore Trail\, Central City\, PA\, 15926\, United States
CATEGORIES:Bands,Live Music
ATTACH;FMTTYPE=image/jpeg:https://thelodgeatindianlake.com/wp-content/uploads/2023/06/Acoustic-BBC.jpg
END:VEVENT
BEGIN:VEVENT
DTSTART;TZID=America/New_York:20230723T110000
DTEND;TZID=America/New_York:20230723T140000
DTSTAMP:20260424T063625
CREATED:20230728T172225Z
LAST-MODIFIED:20230728T172226Z
UID:10009500-1690110000-1690120800@thelodgeatindianlake.com
SUMMARY:Bruston Shaffer Acoustics on The Deck
DESCRIPTION:Jam with Bruston on our beautiful deck overlooking Northwinds Golf course for Sunday Brunch! a nice variety of classic rock and alternative from the 90s & 2000s \n(Inclement weather music will be inside The Lodge or Lucky Penny) \n \n 
URL:https://thelodgeatindianlake.com/events/bruston-shaffer-acoustics-on-the-deck-2/
LOCATION:The Lodge at Indian Lake\, 700 S Shore Trail\, Central City\, PA\, 15926\, United States
CATEGORIES:Bands,Live Music
ATTACH;FMTTYPE=image/jpeg:https://thelodgeatindianlake.com/wp-content/uploads/2023/06/Acoustic-BBC.jpg
END:VEVENT
END:VCALENDAR